BEGIN:VCALENDAR
VERSION:2.0
PRODID:-//Portland Citizens United - ECPv4.8.1//NONSGML v1.0//EN
CALSCALE:GREGORIAN
METHOD:PUBLISH
X-WR-CALNAME:Portland Citizens United
X-ORIGINAL-URL:https://portlandcitizensunited.com
X-WR-CALDESC:Events for Portland Citizens United
BEGIN:VEVENT
DTSTART;TZID=UTC-6:20180213T180000
DTEND;TZID=UTC-6:20180213T200000
DTSTAMP:20260423T150840
CREATED:20180110T022644Z
LAST-MODIFIED:20180110T023752Z
UID:727-1518544800-1518552000@portlandcitizensunited.com
SUMMARY:2018 San Patricio County Public Forum on Local Air Quality Topics hosted by TCEQ
DESCRIPTION:The San Patricio County public forum is a free\, educational event to bring together the public\, political leaders\, neighborhood associations\, nonprofits\, businesses\, and students to learn about and discuss air quality issues in the San Patricio County area. The Texas Commission on Environmental Quality and the Portland Community Center will host the public forum in Portland on Tuesday\, Feb. 13\, 2018. \n2018 San Patricio County Public Forum on Local Air Quality Topics \nTuesday\, Feb. 13\, 2018\n6:00 p.m. – 8:00 p.m.\nPortland Community Center\n2000 Billy G Webb Dr\nPortland\, TX 78374 \nOverview \nAt this event\, you’ll: \n\nHear from TCEQ experts\n\n\nLearn about:\n\nAir quality in San Patricio County\nPublic participation in permitting\nFiling a complaint/citizen collected evidence\n\n\n\n\nAsk experts technical questions about air issues\n\nRegistration \nFREE to all. Seating is limited. Register NOW. \nQuestions \nIf you have questions about this event\, please send an email to TexasEnviroHelp@tceq.texas.gov or call 800-447-2827. \nRequests for Accommodations\n \nThe TCEQ is committed to complying with accessibility laws. If you need assistance in accessing any of our programs or presentations\, please contact us at 800-447-2827. If you need an accommodation during this event\, we ask that you contact us at least two weeks prior to ensure that we can meet your request. \nShare this:EmailFacebookTwitter
URL:https://portlandcitizensunited.com/event/2018-san-patricio-county-public-forum-on-local-air-quality-topics-hosted-by-tceq/
LOCATION:Portland Community Center\, 2000 Billy G Webb\, Texas\, 78374
END:VEVENT
END:VCALENDAR