BEGIN:VCALENDAR
VERSION:2.0
PRODID:-//Portland Citizens United - ECPv4.8.1//NONSGML v1.0//EN
CALSCALE:GREGORIAN
METHOD:PUBLISH
X-WR-CALNAME:Portland Citizens United
X-ORIGINAL-URL:https://portlandcitizensunited.com
X-WR-CALDESC:Events for Portland Citizens United
BEGIN:VEVENT
DTSTART;TZID=UTC+0:20170220T180000
DTEND;TZID=UTC+0:20170220T200000
DTSTAMP:20260423T181240
CREATED:20170213T094207Z
LAST-MODIFIED:20170302T094614Z
UID:175-1487613600-1487620800@portlandcitizensunited.com
SUMMARY:Exxon/SABIC: What are the risks?
DESCRIPTION:Three experts will hold a community forum addressing the anticipated environmental impacts and health risks that our community will face if the proposed Exxon/SABIC petrochemical complex is built less than 1.5 miles from three GPISD schools.  \nHosted by Portland Citizens United\, the forum’s speakers will include Ilan Levin\, Dr. Wes Stafford\, and Neil Carman\, PhD. Ilan Levin is an attorney who currently serves as the Associate Director of the Environmental Integrity Project. Neil Carman is a former air pollution control inspector for the Texas Air Control Board\, a predecessor agency of the Texas Commission on Environmental Quality\, and has served as the Clean Air Director of the Lone Star Chapter of the Sierra Club since 1992. Dr. Wes Stafford is a Corpus Christi allergist and immunologist. \nAfter the presentations\, attendees may ask questions. This public event is free. No reservations are required. \nShare this:EmailFacebookTwitter
URL:https://portlandcitizensunited.com/event/exxonsabic-what-are-the-risks/
LOCATION:Portland Community Center\, 2000 Billy G Webb\, Texas\, 78374
ATTACH;FMTTYPE=image/jpeg:https://portlandcitizensunited.com/wp-content/uploads/2017/03/16665933_1843286225915733_6141708889184245291_o.jpg
END:VEVENT
END:VCALENDAR