BEGIN:VCALENDAR
VERSION:2.0
PRODID:-//Portland Citizens United - ECPv4.8.1//NONSGML v1.0//EN
CALSCALE:GREGORIAN
METHOD:PUBLISH
X-WR-CALNAME:Portland Citizens United
X-ORIGINAL-URL:https://portlandcitizensunited.com
X-WR-CALDESC:Events for Portland Citizens United
BEGIN:VEVENT
DTSTART;TZID=UTC-6:20170321T180000
DTEND;TZID=UTC-6:20170321T200000
DTSTAMP:20260423T163655
CREATED:20170318T022746Z
LAST-MODIFIED:20170321T171018Z
UID:302-1490119200-1490126400@portlandcitizensunited.com
SUMMARY:G-PISD School Board Meeting - Exxon Public Hearing and Abatement Vote
DESCRIPTION:The Gregory-Portland ISD School Board will hold a public hearing and then vote on tax abatement for Exxon/SABIC. \nThis meeting will be at 6pm at the GP-ISD training Center-it was formerly the Fishers of Family Lutheran Church and it is next to the new East Cliff Elementary on Broadway. \nExxon officials have stated they would like to announce site selection by 3/31. It looks like Exxon will know whether they have tax abatement by that date. It is very important to show up to this meeting early and wear RED. You do not have to speak\, but please join us there.  Be sure to show up early as space is limited. \nShare this:EmailFacebookTwitter
URL:https://portlandcitizensunited.com/event/g-pisd-school-board-meeting-exxon-public-hearing-and-abatement-vote/
LOCATION:Gregory-Portland ISD – 1200 Broadway\, 1200 Broadway\, Portland\, Texas\, 78374
ATTACH;FMTTYPE=image/jpeg:https://portlandcitizensunited.com/wp-content/uploads/2017/03/15994633_1827960104115012_4994540094824454072_o.jpg
END:VEVENT
END:VCALENDAR