BEGIN:VCALENDAR
VERSION:2.0
PRODID:-//Portland Citizens United - ECPv4.8.1//NONSGML v1.0//EN
CALSCALE:GREGORIAN
METHOD:PUBLISH
X-WR-CALNAME:Portland Citizens United
X-ORIGINAL-URL:https://portlandcitizensunited.com
X-WR-CALDESC:Events for Portland Citizens United
BEGIN:VEVENT
DTSTART;TZID=UTC-6:20170411T180000
DTEND;TZID=UTC-6:20170411T193000
DTSTAMP:20260423T164414
CREATED:20170407T030509Z
LAST-MODIFIED:20170407T030622Z
UID:323-1491933600-1491939000@portlandcitizensunited.com
SUMMARY:Portland Town Hall with the Port of Corpus Christi
DESCRIPTION:It looks like the Port of Corpus Christi is trying to smooth things out with Portland residents.  We know that the Port has been a driving force behind the Exxon/SABIC project. \nThere will be a town hall type meeting hosted by the Port of Corpus Christi at the North Shore County Club on April 11th from 6-7:30 p.m.  This will give many of us an opportunity to ask questions and hopefully receive answers about future growth and current construction projects in the area.  You MUST RSVP by Friday\, April 7th! \n————————\nRAPPORT with Port Corpus Christi on April 11\, 2017\, 6:00-7:30 p.m.at the North Shore Country Club located at 801 E. Broadway Blvd in Portland\, Texas.\nWe hope to see you there!\nPlease rsvp by April 7th to: RSVP@pocca.com\n———————— \nShare this:EmailFacebookTwitter
URL:https://portlandcitizensunited.com/event/portland-town-hall-with-the-port-of-corpus-christi/
LOCATION:North Shore Country Club\, 801 E Broadway Blvd\, Portland\, TX\, 78374\, United States
ATTACH;FMTTYPE=image/jpeg:https://portlandcitizensunited.com/wp-content/uploads/2017/04/657ecf0c526f5b8bd97f5bcc00d1aa4e58a88759.jpeg
END:VEVENT
END:VCALENDAR