BEGIN:VCALENDAR
VERSION:2.0
PRODID:-//Portland Citizens United - ECPv4.8.1//NONSGML v1.0//EN
CALSCALE:GREGORIAN
METHOD:PUBLISH
X-WR-CALNAME:Portland Citizens United
X-ORIGINAL-URL:https://portlandcitizensunited.com
X-WR-CALDESC:Events for Portland Citizens United
BEGIN:VEVENT
DTSTART;TZID=UTC+0:20170306T090000
DTEND;TZID=UTC+0:20170306T103000
DTSTAMP:20260423T181051
CREATED:20170302T022749Z
LAST-MODIFIED:20170304T211947Z
UID:144-1488790800-1488796200@portlandcitizensunited.com
SUMMARY:San Patricio County Commissioners Meeting
DESCRIPTION:County Commissioners will NOT vote this week on tax abatements for Exxon\, GCGV\, and SABIC.  You can still voice your opposition and concerns to the Commissioners during Public Comment. \nShare this:EmailFacebookTwitter
URL:https://portlandcitizensunited.com/event/san-patricio-county-commissioners-meeting/
LOCATION:San Patricio County Courthouse\, 400 W Sinton St Ste 124\, Sinton\, Texas\, 78387
ATTACH;FMTTYPE=image/png:https://portlandcitizensunited.com/wp-content/uploads/2017/03/93_san-pat-commissioners-will-exxon-be-on-the-agenda_image.png
END:VEVENT
END:VCALENDAR