BEGIN:VCALENDAR
VERSION:2.0
PRODID:-//Portland Citizens United - ECPv4.8.1//NONSGML v1.0//EN
CALSCALE:GREGORIAN
METHOD:PUBLISH
X-WR-CALNAME:Portland Citizens United
X-ORIGINAL-URL:https://portlandcitizensunited.com
X-WR-CALDESC:Events for Portland Citizens United
BEGIN:VEVENT
DTSTART;TZID=UTC-6:20170320T085000
DTEND;TZID=UTC-6:20170320T103000
DTSTAMP:20260423T151019
CREATED:20170315T032614Z
LAST-MODIFIED:20170318T023006Z
UID:292-1489999800-1490005800@portlandcitizensunited.com
SUMMARY:San Patricio County Meeting - Public Hearing Exxon/SABIC Reinvestment Zone and Tax Abatement Vote
DESCRIPTION:The San Patricio County Commissioners will hold a public hearing to designate the proposed site of the Exxon/SABIC petrochemical complex as a reinvestment zone. The area has been designated as a reinvestment zone eligible for tax abatements since August 2016. However\, it was done with very little public notice and zero public comment. March 20th is a DO OVER! This is your chance to be heard. If the reinvestment zone is voted down by commissioners on March 20th\, then Exxon/SABIC will NOT be eligible for tax abatements at that site. \nIf the Commissioners approve the “Reinvestment Zone” they will then vote on tax abatements for Exxon/SABIC at this very same meeting. \nThe site is too close to schools and homes. Please join us and wear red. \nShare this:EmailFacebookTwitter
URL:https://portlandcitizensunited.com/event/san-patricio-county-meeting-public-hearing-exxonsabic-reinvestment-zone/
LOCATION:San Patricio County Courthouse\, 400 W Sinton St Ste 124\, Sinton\, Texas\, 78387
ATTACH;FMTTYPE=image/png:https://portlandcitizensunited.com/wp-content/uploads/2017/03/90_san-pat-commissioners-will-vote-on-exxon-taxes_image.png
END:VEVENT
END:VCALENDAR