BEGIN:VCALENDAR
VERSION:2.0
PRODID:-//Portland Citizens United - ECPv4.8.1//NONSGML v1.0//EN
CALSCALE:GREGORIAN
METHOD:PUBLISH
X-WR-CALNAME:Portland Citizens United
X-ORIGINAL-URL:https://portlandcitizensunited.com
X-WR-CALDESC:Events for Portland Citizens United
BEGIN:VEVENT
DTSTART;TZID=UTC-6:20171211T190000
DTEND;TZID=UTC-6:20171211T220000
DTSTAMP:20260423T150601
CREATED:20171025T015901Z
LAST-MODIFIED:20171111T191349Z
UID:571-1513018800-1513029600@portlandcitizensunited.com
SUMMARY:TCEQ Public Meeting: EXXON/SABIC Industrial Wastewater Permit
DESCRIPTION:The TCEQ has scheduled a Public Meeting on Exxon’s permit to discharge industrial wastewater and stormwater into Coprus Christi Bay and Copano Bay/Port Bay/Mission Bay via pipe and open drainage ditches. \nTHE MEETING IS SCHEDULED TO COMMENCE AT 7 PM ON DECEMBER 11 AND WILL BE HELD AT STEPHEN F. AUSTIN ELEMENTARY SCHOOL IN GREGORY.  \nThe meeting will begin with an Informal Discussion Period during which citizens can direct questions to Exxon/SABIC and TCEQ staff. After the discussion period\, citizens can make formal comments for the record.\n \nExxon cannot build the facility unless they 1) receive an air quality permit\, and 2) obtain a permit to discharge the industrial wastewater into the bays. Please share notice of this meeting with all who have an interest in the water quality of our bays and estuaries. \nAs a reminder\, Exxon will require 20 Million gallons of water per day to operate\, or 7.3 Billion gallons each year. After this water passes through their processes\, they will discharge 9 Million gallons of water each day\, or 3.3 Billion gallons each year. Stormwater runoff from approximately 1.5 square miles of concrete will flow to the bays. \nYou can read the notice from TCEQ below. \n			\n				\n					\n						\n							\n							Loading...\n						\n					\n					\n						\n							\n							Taking too long?\n						\n						\n							\n								 Reload document							\n							|\n							\n								 Open in new tab							\n					\n				\n			\n		Download [159.66 KB]  \nShare this:EmailFacebookTwitter
URL:https://portlandcitizensunited.com/event/tceq-public-meeting-exxonsabic-industrial-wastewater-permit/
LOCATION:Stephen F. Austin Elementary\, 308 N. Gregory\, Gregory\, TX\, 78359\, United States
END:VEVENT
END:VCALENDAR